BEGIN:VCALENDAR
VERSION:2.0
PRODID:-//Stationäres Hospiz Arista in Ettlingen - ECPv6.15.20//NONSGML v1.0//EN
CALSCALE:GREGORIAN
METHOD:PUBLISH
X-WR-CALNAME:Stationäres Hospiz Arista in Ettlingen
X-ORIGINAL-URL:https://www.hospiz-arista.de
X-WR-CALDESC:Veranstaltungen für Stationäres Hospiz Arista in Ettlingen
REFRESH-INTERVAL;VALUE=DURATION:PT1H
X-Robots-Tag:noindex
X-PUBLISHED-TTL:PT1H
BEGIN:VTIMEZONE
TZID:Europe/Berlin
BEGIN:DAYLIGHT
TZOFFSETFROM:+0100
TZOFFSETTO:+0200
TZNAME:CEST
DTSTART:20230326T010000
END:DAYLIGHT
BEGIN:STANDARD
TZOFFSETFROM:+0200
TZOFFSETTO:+0100
TZNAME:CET
DTSTART:20231029T010000
END:STANDARD
BEGIN:DAYLIGHT
TZOFFSETFROM:+0100
TZOFFSETTO:+0200
TZNAME:CEST
DTSTART:20240331T010000
END:DAYLIGHT
BEGIN:STANDARD
TZOFFSETFROM:+0200
TZOFFSETTO:+0100
TZNAME:CET
DTSTART:20241027T010000
END:STANDARD
BEGIN:DAYLIGHT
TZOFFSETFROM:+0100
TZOFFSETTO:+0200
TZNAME:CEST
DTSTART:20250330T010000
END:DAYLIGHT
BEGIN:STANDARD
TZOFFSETFROM:+0200
TZOFFSETTO:+0100
TZNAME:CET
DTSTART:20251026T010000
END:STANDARD
END:VTIMEZONE
BEGIN:VEVENT
DTSTART;TZID=Europe/Berlin:20241024T190000
DTEND;TZID=Europe/Berlin:20241024T210000
DTSTAMP:20260424T211732
CREATED:20241014T155908Z
LAST-MODIFIED:20241014T155908Z
UID:126194-1729796400-1729803600@www.hospiz-arista.de
SUMMARY:Entdecke Deine Stimme
DESCRIPTION:LESUNG & MINI-WORKSHOP\n\n\n\n\nFinden Sie Ihren eigenen stimmigen Ton. \n\n\n\n\nNicht nur im Scheinwerferlicht auf der Bühne oder bei einer Rede vor großem Publikum\, sondern gerade auch\, wenn wir Menschen in herausfordernden Situationen begegnen und sie begleiten\, ist die Stimme das essentielle Medium für die Kommunikation. \n\n\n\n\n\n\n\n\nSophia Katschinski\nStaatl. geprüfte Atem-\, Sprech- und Stimmtherapeutin und Kundalini Yoga Lehrerin
URL:https://www.hospiz-arista.de/event/entdecke-deine-stimme/
LOCATION:Karl-Still-Haus\, Im Ferning 8\, Ettlingen
CATEGORIES:Kultur & Benefiz
ATTACH;FMTTYPE=image/png:https://www.hospiz-arista.de/wp-content/uploads/2024/10/Jahresprogramm2025-14.png
END:VEVENT
END:VCALENDAR