BEGIN:VCALENDAR
VERSION:2.0
PRODID:-//Stationäres Hospiz Arista in Ettlingen - ECPv6.15.20//NONSGML v1.0//EN
CALSCALE:GREGORIAN
METHOD:PUBLISH
X-WR-CALNAME:Stationäres Hospiz Arista in Ettlingen
X-ORIGINAL-URL:https://www.hospiz-arista.de
X-WR-CALDESC:Veranstaltungen für Stationäres Hospiz Arista in Ettlingen
REFRESH-INTERVAL;VALUE=DURATION:PT1H
X-Robots-Tag:noindex
X-PUBLISHED-TTL:PT1H
BEGIN:VTIMEZONE
TZID:Europe/Berlin
BEGIN:DAYLIGHT
TZOFFSETFROM:+0100
TZOFFSETTO:+0200
TZNAME:CEST
DTSTART:20230326T010000
END:DAYLIGHT
BEGIN:STANDARD
TZOFFSETFROM:+0200
TZOFFSETTO:+0100
TZNAME:CET
DTSTART:20231029T010000
END:STANDARD
BEGIN:DAYLIGHT
TZOFFSETFROM:+0100
TZOFFSETTO:+0200
TZNAME:CEST
DTSTART:20240331T010000
END:DAYLIGHT
BEGIN:STANDARD
TZOFFSETFROM:+0200
TZOFFSETTO:+0100
TZNAME:CET
DTSTART:20241027T010000
END:STANDARD
BEGIN:DAYLIGHT
TZOFFSETFROM:+0100
TZOFFSETTO:+0200
TZNAME:CEST
DTSTART:20250330T010000
END:DAYLIGHT
BEGIN:STANDARD
TZOFFSETFROM:+0200
TZOFFSETTO:+0100
TZNAME:CET
DTSTART:20251026T010000
END:STANDARD
END:VTIMEZONE
BEGIN:VEVENT
DTSTART;TZID=Europe/Berlin:20241018T190000
DTEND;TZID=Europe/Berlin:20241018T210000
DTSTAMP:20260420T065430
CREATED:20241014T155352Z
LAST-MODIFIED:20241014T155352Z
UID:126189-1729278000-1729285200@www.hospiz-arista.de
SUMMARY:Hallo\, ich bin Yvonne!
DESCRIPTION:Unter dem Titel „Hallo\, ich bin Yvonne!“ stellt sich die inter- national anerkannte Sommelière Yvonne Heistermann auf ihre sypmathische Art vor. Vor allem aber führt sie mit ihrem excellenten Wissen charmant durch die Welt des Champagners.\nZum Probieren & Genießen hat sie fünf wunderbare Champagner ausgesucht. Darunter echte Geheimtipps!\nDazu werden Gourmetteller der Brasserie „WATTS“ gereicht\, aufmerksam serviert vom Team des Fördervereins. \n\n\n\n\nDie musikalische Umrahmung übernehmen\nPATRICA KESSLER GESANG\nMICHAEL POSTWEILER PIANO
URL:https://www.hospiz-arista.de/event/hallo-ich-bin-yvonne/
LOCATION:Buhlsche Mühle\, Pforzheimer Str. 69\, Ettlingen
CATEGORIES:Kultur & Benefiz
ATTACH;FMTTYPE=image/png:https://www.hospiz-arista.de/wp-content/uploads/2024/10/Jahresprogramm2025-12.png
END:VEVENT
END:VCALENDAR