BEGIN:VCALENDAR
VERSION:2.0
PRODID:-//Stationäres Hospiz Arista in Ettlingen - ECPv6.15.20//NONSGML v1.0//EN
CALSCALE:GREGORIAN
METHOD:PUBLISH
X-WR-CALNAME:Stationäres Hospiz Arista in Ettlingen
X-ORIGINAL-URL:https://www.hospiz-arista.de
X-WR-CALDESC:Veranstaltungen für Stationäres Hospiz Arista in Ettlingen
REFRESH-INTERVAL;VALUE=DURATION:PT1H
X-Robots-Tag:noindex
X-PUBLISHED-TTL:PT1H
BEGIN:VTIMEZONE
TZID:Europe/Berlin
BEGIN:DAYLIGHT
TZOFFSETFROM:+0100
TZOFFSETTO:+0200
TZNAME:CEST
DTSTART:20230326T010000
END:DAYLIGHT
BEGIN:STANDARD
TZOFFSETFROM:+0200
TZOFFSETTO:+0100
TZNAME:CET
DTSTART:20231029T010000
END:STANDARD
BEGIN:DAYLIGHT
TZOFFSETFROM:+0100
TZOFFSETTO:+0200
TZNAME:CEST
DTSTART:20240331T010000
END:DAYLIGHT
BEGIN:STANDARD
TZOFFSETFROM:+0200
TZOFFSETTO:+0100
TZNAME:CET
DTSTART:20241027T010000
END:STANDARD
BEGIN:DAYLIGHT
TZOFFSETFROM:+0100
TZOFFSETTO:+0200
TZNAME:CEST
DTSTART:20250330T010000
END:DAYLIGHT
BEGIN:STANDARD
TZOFFSETFROM:+0200
TZOFFSETTO:+0100
TZNAME:CET
DTSTART:20251026T010000
END:STANDARD
END:VTIMEZONE
BEGIN:VEVENT
DTSTART;VALUE=DATE:20240610
DTEND;VALUE=DATE:20240611
DTSTAMP:20260424T131438
CREATED:20240115T102045Z
LAST-MODIFIED:20240115T102045Z
UID:126020-1717977600-1718063999@www.hospiz-arista.de
SUMMARY:Konzert: Gospel meets Popsongs
DESCRIPTION:Modern Church Band & Voices\n\n\nSolistinnen: Susanne Kunzweiler\, Anny Maleyse \n\n\n\n\nViele berührende Gospelsongs und Pop-Klassiker hat die Modern Church Band aus Karlsruhe für ihr Benefizkonzert im Ettlinger Schlosshof aus ihrem großen Repertoire aus- gewählt. . \nNeben der Interpretation der Melodien steht die Übersetzung ihrer Texte im Vordergrund\, mit der die Kraft von Komposition und Aussage für Besucher erschlossen wird. Die Band nimmt das Publikum mit auf eine Reise von wunderschönen Klängen\, Geschichten und Stimmen. \n\n\n\n\n  \nWeitere Infos finden Sie auf Seite 44+45 in unserem Programm. \n\n\n\n\n\n\n\n\n  \nDer Beginn der Veranstaltung wird noch in der örtlichen Presse bekannt gegeben. \nVeranstaltungsort: Schlosshof Ettlingen \n\nKarten: 12\,00 € an der Abendkasse / im Vorverkauf: 9\,00 € Vorverkauf: Touristinfo Ettlingen und Buchhandlung Abraxas\nVorbestellungen unter: 07243 9454-270 oder: karten@hospizfoerderverein.de
URL:https://www.hospiz-arista.de/event/konzert-gospel-meets-popsongs/
LOCATION:Schlosshof Ettlingen
CATEGORIES:Kultur & Benefiz
ATTACH;FMTTYPE=image/png:https://www.hospiz-arista.de/wp-content/uploads/2024/01/Jahresprogramm-44.png
END:VEVENT
END:VCALENDAR